BEGIN:VCALENDAR
VERSION:2.0
PRODID:-//wp-events-plugin.com//7.2.3.1//EN
BEGIN:VEVENT
UID:62@justsmile.co.uk
DTSTART;TZID=Europe/London:20190710T160000
DTEND;TZID=Europe/London:20190710T210000
DTSTAMP:20240920T114106Z
URL:https://www.justsmile.co.uk/whats-on/aubrey-park-wedding-showcase/
SUMMARY:Aubrey Park Wedding Showcase
DESCRIPTION:
LOCATION:Sopwell House\, Cottonmill Lane\, St. Albans\, Hertfordshire\, AL1
  2HQ\, United Kingdom
GEO:51.735816;-0.327318
X-APPLE-STRUCTURED-LOCATION;VALUE=URI;X-ADDRESS=Cottonmill Lane\, St. Alban
 s\, Hertfordshire\, AL1 2HQ\, United Kingdom;X-APPLE-RADIUS=100;X-TITLE=So
 pwell House:geo:51.735816,-0.327318
END:VEVENT
BEGIN:VTIMEZONE
TZID:Europe/London
X-LIC-LOCATION:Europe/London
BEGIN:DAYLIGHT
DTSTART:20190331T020000
TZOFFSETFROM:+0000
TZOFFSETTO:+0100
TZNAME:BST
END:DAYLIGHT
END:VTIMEZONE
END:VCALENDAR