BEGIN:VCALENDAR
VERSION:2.0
PRODID:-//wp-events-plugin.com//7.2.3.1//EN
BEGIN:VEVENT
UID:110@justsmile.co.uk
DTSTART;TZID=Europe/London:20250208T100000
DTEND;TZID=Europe/London:20250209T160000
DTSTAMP:20250117T135615Z
URL:https://www.justsmile.co.uk/whats-on/essendon-country-club-wedding-ope
 n-day-2025/
SUMMARY:Essendon Country Club – Wedding Open Day
DESCRIPTION:Nestled in over 480 acres of stunning Hertfordshire countryside
 \, Essendon's 16th Century Grand Barn is the perfect venue to host your sp
 ecial day.\n\nOn Saturday 8th &amp\; Sunday 9th of February 2025\, they wi
 ll be showcasing their stunning venue while a dedicated wedding planner wi
 ll take you through every step of the way.\n\nFor any further information 
 please book a spot through their website: essendonweddings.co.uk
ATTACH;FMTTYPE=image/jpeg:https://www.justsmile.co.uk/wp-content/uploads/2
 024/08/IMG_1407.jpg
CATEGORIES:Wedding Fairs / Exhibitions
LOCATION:Essendon Country Club\, Bedwell Avenue\, Essendon\, Hertfordshire\
 , AL9 6HN\, United Kingdom
GEO:51.768249;-0.142791
X-APPLE-STRUCTURED-LOCATION;VALUE=URI;X-ADDRESS=Bedwell Avenue\, Essendon\,
  Hertfordshire\, AL9 6HN\, United Kingdom;X-APPLE-RADIUS=100;X-TITLE=Essen
 don Country Club:geo:51.768249,-0.142791
END:VEVENT
BEGIN:VTIMEZONE
TZID:Europe/London
X-LIC-LOCATION:Europe/London
BEGIN:STANDARD
DTSTART:20241027T010000
TZOFFSETFROM:+0100
TZOFFSETTO:+0000
TZNAME:GMT
END:STANDARD
END:VTIMEZONE
END:VCALENDAR