BEGIN:VCALENDAR
VERSION:2.0
PRODID:-//wp-events-plugin.com//7.2.3.1//EN
BEGIN:VEVENT
UID:9@justsmile.co.uk
DTSTART;TZID=Europe/London:20241027T110000
DTEND;TZID=Europe/London:20241027T150000
DTSTAMP:20241018T042453Z
URL:https://www.justsmile.co.uk/whats-on/tewin-bury-farm-wedding-show-8/
SUMMARY:Tewin Bury Farm Wedding Show
DESCRIPTION:Admission:&nbsp\;Free entry\nTimes:&nbsp\;11:00am - 3:00pm\nLoc
 ation: &nbsp\;Hertford Road\, Tewin\, Welwyn\, Hertfordshire\, AL6 0JB\n\n
 \nBook Free Tickets\n\nhttps://mainweddingsandevents.co.uk/Register/\n\n\n
 &nbsp\;\nOrganiser: https://mainweddingsandevents.co.uk/\n&nbsp\;\n\nTEWIN
 BURY FARM HOTEL WEDDING SHOW\nFrom intimate ceremonies to grand\, lavish r
 eceptions\, the choice of venues hidden in the beautiful Hertfordshire cou
 ntryside at Tewin Bury Farm have something to offer everyone. The Barns an
 d Suites can cater to small parties of 40 up to large receptions of 500 gu
 ests. All have private garden\, ceremony and reception rooms offering the 
 feeling of exclusivity.\n\nCome along to view the venue and meet a range o
 f quality suppliers at the wedding show where you can find:\n\n‣ Amazing
  wedding inspiration for your big day\n‣ FREE entry for everyone\n‣ Go
 ody bags for all couples getting married\n‣ Special offers on the day\n
 ‣ Quality wedding suppliers\n‣ The latest trends\n\nPlease pre-registe
 r for the show using the form below to save time on the day.\n\n\nTEWINBUR
 Y FARM\n&nbsp\;Hertford Road\, Tewin\, Welwyn\, Hertfordshire\, AL6 0JB\n\
 n&nbsp\;01438 717793\n\n\n\n
CATEGORIES:Wedding Fairs / Exhibitions
LOCATION:Tewin Bury Farm Hotel\, Hertford Road\, Welwyn Garden City\, Hertf
 ordshire\, AL6 0JB\, United Kingdom
GEO:51.818325;-0.189979
X-APPLE-STRUCTURED-LOCATION;VALUE=URI;X-ADDRESS=Hertford Road\, Welwyn Gard
 en City\, Hertfordshire\, AL6 0JB\, United Kingdom;X-APPLE-RADIUS=100;X-TI
 TLE=Tewin Bury Farm Hotel:geo:51.818325,-0.189979
END:VEVENT
BEGIN:VTIMEZONE
TZID:Europe/London
X-LIC-LOCATION:Europe/London
BEGIN:STANDARD
DTSTART:20241027T010000
TZOFFSETFROM:+0100
TZOFFSETTO:+0000
TZNAME:GMT
END:STANDARD
END:VTIMEZONE
END:VCALENDAR