BEGIN:VCALENDAR
VERSION:2.0
PRODID:-//wp-events-plugin.com//7.2.3.1//EN
BEGIN:VEVENT
UID:64@justsmile.co.uk
DTSTART;TZID=Europe/London:20190922T110000
DTEND;TZID=Europe/London:20190922T150000
DTSTAMP:20240920T114210Z
URL:https://www.justsmile.co.uk/whats-on/twin-bury-farm-wedding-fayre/
SUMMARY:Tewin Bury Farm Wedding Fayre
DESCRIPTION:
CATEGORIES:Wedding Fairs / Exhibitions
LOCATION:\, \, 
X-APPLE-STRUCTURED-LOCATION;VALUE=URI;X-ADDRESS=\, ;X-APPLE-RADIUS=100;X-TI
 TLE=:geo:0,0
END:VEVENT
BEGIN:VTIMEZONE
TZID:Europe/London
X-LIC-LOCATION:Europe/London
BEGIN:DAYLIGHT
DTSTART:20190331T020000
TZOFFSETFROM:+0000
TZOFFSETTO:+0100
TZNAME:BST
END:DAYLIGHT
END:VTIMEZONE
END:VCALENDAR